BEGIN:VCALENDAR
VERSION:2.0
PRODID:-//Saint-Germain-Laval - ECPv6.15.17//NONSGML v1.0//EN
CALSCALE:GREGORIAN
METHOD:PUBLISH
X-WR-CALNAME:Saint-Germain-Laval
X-ORIGINAL-URL:https://www.saint-germain-laval.fr
X-WR-CALDESC:Évènements pour Saint-Germain-Laval
REFRESH-INTERVAL;VALUE=DURATION:PT1H
X-Robots-Tag:noindex
X-PUBLISHED-TTL:PT1H
BEGIN:VTIMEZONE
TZID:Europe/Paris
BEGIN:DAYLIGHT
TZOFFSETFROM:+0100
TZOFFSETTO:+0200
TZNAME:CEST
DTSTART:20240331T010000
END:DAYLIGHT
BEGIN:STANDARD
TZOFFSETFROM:+0200
TZOFFSETTO:+0100
TZNAME:CET
DTSTART:20241027T010000
END:STANDARD
BEGIN:DAYLIGHT
TZOFFSETFROM:+0100
TZOFFSETTO:+0200
TZNAME:CEST
DTSTART:20250330T010000
END:DAYLIGHT
BEGIN:STANDARD
TZOFFSETFROM:+0200
TZOFFSETTO:+0100
TZNAME:CET
DTSTART:20251026T010000
END:STANDARD
BEGIN:DAYLIGHT
TZOFFSETFROM:+0100
TZOFFSETTO:+0200
TZNAME:CEST
DTSTART:20260329T010000
END:DAYLIGHT
BEGIN:STANDARD
TZOFFSETFROM:+0200
TZOFFSETTO:+0100
TZNAME:CET
DTSTART:20261025T010000
END:STANDARD
END:VTIMEZONE
BEGIN:VEVENT
DTSTART;TZID=Europe/Paris:20251012T090000
DTEND;TZID=Europe/Paris:20251012T170000
DTSTAMP:20260420T142055
CREATED:20250415T220000Z
LAST-MODIFIED:20260304T092025Z
UID:9487-1760259600-1760288400@www.saint-germain-laval.fr
SUMMARY:PUCES DES COUTURIÈRES
DESCRIPTION: 
URL:https://www.saint-germain-laval.fr/evenement/puces-des-couturieres-7/
LOCATION:Salle de l’Orée de la Bassée\, rue de Provins\, Saint-Germain-Laval\, 77130\, France
ORGANIZER;CN="Comit%C3%A9 des F%C3%AAtes":MAILTO:comitesaintgermainlaval@outlook.fr
END:VEVENT
END:VCALENDAR