BEGIN:VCALENDAR
VERSION:2.0
PRODID:-//Saint-Germain-Laval - ECPv6.15.17//NONSGML v1.0//EN
CALSCALE:GREGORIAN
METHOD:PUBLISH
X-WR-CALNAME:Saint-Germain-Laval
X-ORIGINAL-URL:https://www.saint-germain-laval.fr
X-WR-CALDESC:Évènements pour Saint-Germain-Laval
REFRESH-INTERVAL;VALUE=DURATION:PT1H
X-Robots-Tag:noindex
X-PUBLISHED-TTL:PT1H
BEGIN:VTIMEZONE
TZID:Europe/Paris
BEGIN:DAYLIGHT
TZOFFSETFROM:+0100
TZOFFSETTO:+0200
TZNAME:CEST
DTSTART:20240331T010000
END:DAYLIGHT
BEGIN:STANDARD
TZOFFSETFROM:+0200
TZOFFSETTO:+0100
TZNAME:CET
DTSTART:20241027T010000
END:STANDARD
BEGIN:DAYLIGHT
TZOFFSETFROM:+0100
TZOFFSETTO:+0200
TZNAME:CEST
DTSTART:20250330T010000
END:DAYLIGHT
BEGIN:STANDARD
TZOFFSETFROM:+0200
TZOFFSETTO:+0100
TZNAME:CET
DTSTART:20251026T010000
END:STANDARD
BEGIN:DAYLIGHT
TZOFFSETFROM:+0100
TZOFFSETTO:+0200
TZNAME:CEST
DTSTART:20260329T010000
END:DAYLIGHT
BEGIN:STANDARD
TZOFFSETFROM:+0200
TZOFFSETTO:+0100
TZNAME:CET
DTSTART:20261025T010000
END:STANDARD
END:VTIMEZONE
BEGIN:VEVENT
DTSTART;TZID=Europe/Paris:20251206T120000
DTEND;TZID=Europe/Paris:20251206T170000
DTSTAMP:20260420T094507
CREATED:20251017T073041Z
LAST-MODIFIED:20260304T092039Z
UID:10265-1765022400-1765040400@www.saint-germain-laval.fr
SUMMARY:DÉJEUNER FIN D'ANNÉE
DESCRIPTION:Le Club de l’Age d’Or vous propose un DÉJEUNER DE FIN D’ANNÉE\, avec DJ. \nAu menu : \n\nCocktail maison ou jus de fruits avec assortiment de 5 pièces cocktail\nTourte de ris de veau et foie gras accompagné d’une mâche\nTrou normand\nTournedos de filet de canard\, fondant de champignons et patate douce\, fagot de légumes\nDuo de Brie de Meaux\, chèvre\, salade\nÉcrin poire caramel\, biscuit amande et mousse chocolat blanc\nEau plate et pétillante\, café ou thé\, vin rouge et blanc\n\nBon de participation disponible ci-dessous\, à retourner avant le 20 octobre 2025 accompagné du règlement à Mme DELBEAU Nadine\, Présidente du Club de l’Age d’Or (33 allée des Dahlias 77130 Saint-Germain-Laval)\nInformations : 01 64 32 79 20 / 06 73 33 04 52 / clubagedor77@gmail.com
URL:https://www.saint-germain-laval.fr/evenement/dejeuner-fin-dannee/
LOCATION:Salle de l’Orée de la Bassée\, rue de Provins\, Saint-Germain-Laval\, 77130\, France
CATEGORIES:Associations
ATTACH;FMTTYPE=image/jpeg:https://www.saint-germain-laval.fr/wp-content/uploads/restaurants.jpg
END:VEVENT
END:VCALENDAR