BEGIN:VCALENDAR
VERSION:2.0
PRODID:-//Saint-Germain-Laval - ECPv6.15.17//NONSGML v1.0//EN
CALSCALE:GREGORIAN
METHOD:PUBLISH
X-ORIGINAL-URL:https://www.saint-germain-laval.fr
X-WR-CALDESC:Évènements pour Saint-Germain-Laval
REFRESH-INTERVAL;VALUE=DURATION:PT1H
X-Robots-Tag:noindex
X-PUBLISHED-TTL:PT1H
BEGIN:VTIMEZONE
TZID:Europe/Paris
BEGIN:DAYLIGHT
TZOFFSETFROM:+0100
TZOFFSETTO:+0200
TZNAME:CEST
DTSTART:20250330T010000
END:DAYLIGHT
BEGIN:STANDARD
TZOFFSETFROM:+0200
TZOFFSETTO:+0100
TZNAME:CET
DTSTART:20251026T010000
END:STANDARD
BEGIN:DAYLIGHT
TZOFFSETFROM:+0100
TZOFFSETTO:+0200
TZNAME:CEST
DTSTART:20260329T010000
END:DAYLIGHT
BEGIN:STANDARD
TZOFFSETFROM:+0200
TZOFFSETTO:+0100
TZNAME:CET
DTSTART:20261025T010000
END:STANDARD
BEGIN:DAYLIGHT
TZOFFSETFROM:+0100
TZOFFSETTO:+0200
TZNAME:CEST
DTSTART:20270328T010000
END:DAYLIGHT
BEGIN:STANDARD
TZOFFSETFROM:+0200
TZOFFSETTO:+0100
TZNAME:CET
DTSTART:20271031T010000
END:STANDARD
END:VTIMEZONE
BEGIN:VEVENT
DTSTART;TZID=Europe/Paris:20261011T090000
DTEND;TZID=Europe/Paris:20261011T170000
DTSTAMP:20260420T130223
CREATED:20260212T144615Z
LAST-MODIFIED:20260304T092039Z
UID:11153-1791709200-1791738000@www.saint-germain-laval.fr
SUMMARY:Salon du bien-être
DESCRIPTION:Le Comité des Fêtes propose un salon du bien-être. \n➡️  Ouverture au public à partir de 9h00\, jusqu’à 17h00.\nSur place : buvette et petite restauration (plateau repas à 9€) \n➡️  Accueil des exposants à partir de 7h00.\nTarif : 8€ la table de 1\,80m. Inscription prise en compte à réception du paiement. \n 
URL:https://www.saint-germain-laval.fr/evenement/salon-du-bien-etre/
LOCATION:Salle de l’Orée de la Bassée\, rue de Provins\, Saint-Germain-Laval\, 77130\, France
CATEGORIES:Associations
ATTACH;FMTTYPE=image/jpeg:https://www.saint-germain-laval.fr/wp-content/uploads/Zen-scaled.jpg
ORGANIZER;CN="Comit%C3%A9 des F%C3%AAtes":MAILTO:comitesaintgermainlaval@outlook.fr
END:VEVENT
BEGIN:VEVENT
DTSTART;TZID=Europe/Paris:20261017T103000
DTEND;TZID=Europe/Paris:20261017T153000
DTSTAMP:20260420T130223
CREATED:20260212T104115Z
LAST-MODIFIED:20260304T092039Z
UID:11138-1792233000-1792251000@www.saint-germain-laval.fr
SUMMARY:Don du sang
DESCRIPTION:L’association pour le don de sang bénévole de la région de Montereau « André BRANGEON » organise une collecte de sang le samedi 21 février 2026 de 10h30 à 15h30\, sans interruption.\n☝️ Ne pas venir à jeun \n➡️ Inscription en ligne via ce lien
URL:https://www.saint-germain-laval.fr/evenement/don-du-sang-5/
LOCATION:Halle Alfred Nodet\, 2 rue Pierre Corneille\, Montereau-fault-Yonne\, 77130\, France
CATEGORIES:Associations
ATTACH;FMTTYPE=image/png:https://www.saint-germain-laval.fr/wp-content/uploads/Don-du-sang.png
END:VEVENT
BEGIN:VEVENT
DTSTART;TZID=Europe/Paris:20261031T140000
DTEND;TZID=Europe/Paris:20261031T170000
DTSTAMP:20260420T130223
CREATED:20260212T150835Z
LAST-MODIFIED:20260304T092039Z
UID:11156-1793455200-1793466000@www.saint-germain-laval.fr
SUMMARY:Halloween
DESCRIPTION:L’équipe du Comité organise un après-midi sur le thème d’Halloween. \nDes stands d’animations seront proposés aux enfants : maquillage\, réalisation de décorations\, … \n👻 Election du plus beau costume et de la plus belle citrouille 🎃 par tranche d’âge : les petits de 3 ans à 7 ans\, les moyens de 8 ans à 12 ans et les grands de 13 ans à 16 ans. \nDes lots seront à gagner pour les 3 premiers de chaque catégorie. \n➡️ Inscription obligatoire avec le bon distribué dans les écoles.
URL:https://www.saint-germain-laval.fr/evenement/halloween-5/
LOCATION:Salle de l’Orée de la Bassée\, rue de Provins\, Saint-Germain-Laval\, 77130\, France
CATEGORIES:Associations
ATTACH;FMTTYPE=image/jpeg:https://www.saint-germain-laval.fr/wp-content/uploads/Citrouille-Halloween.jpg
ORGANIZER;CN="Comit%C3%A9 des F%C3%AAtes":MAILTO:comitesaintgermainlaval@outlook.fr
END:VEVENT
END:VCALENDAR