BEGIN:VCALENDAR
VERSION:2.0
PRODID:-//Saint-Germain-Laval - ECPv6.15.17//NONSGML v1.0//EN
CALSCALE:GREGORIAN
METHOD:PUBLISH
X-ORIGINAL-URL:https://www.saint-germain-laval.fr
X-WR-CALDESC:Évènements pour Saint-Germain-Laval
REFRESH-INTERVAL;VALUE=DURATION:PT1H
X-Robots-Tag:noindex
X-PUBLISHED-TTL:PT1H
BEGIN:VTIMEZONE
TZID:Europe/Paris
BEGIN:DAYLIGHT
TZOFFSETFROM:+0100
TZOFFSETTO:+0200
TZNAME:CEST
DTSTART:20250330T010000
END:DAYLIGHT
BEGIN:STANDARD
TZOFFSETFROM:+0200
TZOFFSETTO:+0100
TZNAME:CET
DTSTART:20251026T010000
END:STANDARD
BEGIN:DAYLIGHT
TZOFFSETFROM:+0100
TZOFFSETTO:+0200
TZNAME:CEST
DTSTART:20260329T010000
END:DAYLIGHT
BEGIN:STANDARD
TZOFFSETFROM:+0200
TZOFFSETTO:+0100
TZNAME:CET
DTSTART:20261025T010000
END:STANDARD
BEGIN:DAYLIGHT
TZOFFSETFROM:+0100
TZOFFSETTO:+0200
TZNAME:CEST
DTSTART:20270328T010000
END:DAYLIGHT
BEGIN:STANDARD
TZOFFSETFROM:+0200
TZOFFSETTO:+0100
TZNAME:CET
DTSTART:20271031T010000
END:STANDARD
END:VTIMEZONE
BEGIN:VEVENT
DTSTART;TZID=Europe/Paris:20260410T190000
DTEND;TZID=Europe/Paris:20260410T210000
DTSTAMP:20260420T040853
CREATED:20260212T143557Z
LAST-MODIFIED:20260304T092039Z
UID:11148-1775847600-1775854800@www.saint-germain-laval.fr
SUMMARY:AG Comité des Fêtes
DESCRIPTION:Le Comité des Fêtes organise une assemblée générale le vendredi 10 avril 2026 à 19h00. \nN’hésitez pas à venir rencontrer l’équipe et soumettre vos idées de manifestations.\n➡️ Inscription obligatoire par mail à l’adresse : comitesaintgermainlaval@outlook.fr
URL:https://www.saint-germain-laval.fr/evenement/ag-comite-des-fetes/
LOCATION:Salle de l’Orée de la Bassée\, rue de Provins\, Saint-Germain-Laval\, 77130\, France
CATEGORIES:Associations
ATTACH;FMTTYPE=image/jpeg:https://www.saint-germain-laval.fr/wp-content/uploads/Réunion-2.jpg
ORGANIZER;CN="Comit%C3%A9 des F%C3%AAtes":MAILTO:comitesaintgermainlaval@outlook.fr
END:VEVENT
END:VCALENDAR