BEGIN:VCALENDAR
VERSION:2.0
PRODID:-//Saint-Germain-Laval - ECPv6.15.17//NONSGML v1.0//EN
CALSCALE:GREGORIAN
METHOD:PUBLISH
X-ORIGINAL-URL:https://www.saint-germain-laval.fr
X-WR-CALDESC:Évènements pour Saint-Germain-Laval
REFRESH-INTERVAL;VALUE=DURATION:PT1H
X-Robots-Tag:noindex
X-PUBLISHED-TTL:PT1H
BEGIN:VTIMEZONE
TZID:Europe/Paris
BEGIN:DAYLIGHT
TZOFFSETFROM:+0100
TZOFFSETTO:+0200
TZNAME:CEST
DTSTART:20250330T010000
END:DAYLIGHT
BEGIN:STANDARD
TZOFFSETFROM:+0200
TZOFFSETTO:+0100
TZNAME:CET
DTSTART:20251026T010000
END:STANDARD
BEGIN:DAYLIGHT
TZOFFSETFROM:+0100
TZOFFSETTO:+0200
TZNAME:CEST
DTSTART:20260329T010000
END:DAYLIGHT
BEGIN:STANDARD
TZOFFSETFROM:+0200
TZOFFSETTO:+0100
TZNAME:CET
DTSTART:20261025T010000
END:STANDARD
BEGIN:DAYLIGHT
TZOFFSETFROM:+0100
TZOFFSETTO:+0200
TZNAME:CEST
DTSTART:20270328T010000
END:DAYLIGHT
BEGIN:STANDARD
TZOFFSETFROM:+0200
TZOFFSETTO:+0100
TZNAME:CET
DTSTART:20271031T010000
END:STANDARD
END:VTIMEZONE
BEGIN:VEVENT
DTSTART;TZID=Europe/Paris:20260307T190000
DTEND;TZID=Europe/Paris:20260307T233000
DTSTAMP:20260420T020139
CREATED:20260212T142702Z
LAST-MODIFIED:20260304T092039Z
UID:11142-1772910000-1772926200@www.saint-germain-laval.fr
SUMMARY:Soirée alsacienne
DESCRIPTION:L’A.C.S.G. rando organise une soirée alsacienne le samedi 07 mars 2026 à partir de 19h00. \nAu menu : \n\nApéritif\nChoucroute garnie servie avec un verre de vin d’Alsace ou une bière (25 cl)\nSalade – Fromage\nDessert\nCafé\n\nAmbiance musicale dansante assurée par un DJ
URL:https://www.saint-germain-laval.fr/evenement/soiree-alsacienne/
LOCATION:Salle de l’Orée de la Bassée\, rue de Provins\, Saint-Germain-Laval\, 77130\, France
CATEGORIES:Associations
ATTACH;FMTTYPE=image/jpeg:https://www.saint-germain-laval.fr/wp-content/uploads/Choucroute.jpg
END:VEVENT
END:VCALENDAR