BEGIN:VCALENDAR
VERSION:2.0
PRODID:-//Saint-Germain-Laval - ECPv6.15.17//NONSGML v1.0//EN
CALSCALE:GREGORIAN
METHOD:PUBLISH
X-WR-CALNAME:Saint-Germain-Laval
X-ORIGINAL-URL:https://www.saint-germain-laval.fr
X-WR-CALDESC:Évènements pour Saint-Germain-Laval
REFRESH-INTERVAL;VALUE=DURATION:PT1H
X-Robots-Tag:noindex
X-PUBLISHED-TTL:PT1H
BEGIN:VTIMEZONE
TZID:Europe/Paris
BEGIN:DAYLIGHT
TZOFFSETFROM:+0100
TZOFFSETTO:+0200
TZNAME:CEST
DTSTART:20250330T010000
END:DAYLIGHT
BEGIN:STANDARD
TZOFFSETFROM:+0200
TZOFFSETTO:+0100
TZNAME:CET
DTSTART:20251026T010000
END:STANDARD
BEGIN:DAYLIGHT
TZOFFSETFROM:+0100
TZOFFSETTO:+0200
TZNAME:CEST
DTSTART:20260329T010000
END:DAYLIGHT
BEGIN:STANDARD
TZOFFSETFROM:+0200
TZOFFSETTO:+0100
TZNAME:CET
DTSTART:20261025T010000
END:STANDARD
BEGIN:DAYLIGHT
TZOFFSETFROM:+0100
TZOFFSETTO:+0200
TZNAME:CEST
DTSTART:20270328T010000
END:DAYLIGHT
BEGIN:STANDARD
TZOFFSETFROM:+0200
TZOFFSETTO:+0100
TZNAME:CET
DTSTART:20271031T010000
END:STANDARD
END:VTIMEZONE
BEGIN:VEVENT
DTSTART;TZID=Europe/Paris:20261114T100000
DTEND;TZID=Europe/Paris:20261114T120000
DTSTAMP:20260420T124040
CREATED:20260327T100310Z
LAST-MODIFIED:20260327T100310Z
UID:12015-1794650400-1794657600@www.saint-germain-laval.fr
SUMMARY:Permanence élus
DESCRIPTION:Chaque samedi\, de 10h00 à 12h00\, sans rendez-vous\, des temps d’échange seront assurés par Monsieur le Maire\, accompagné d’un ou deux élus\, afin de répondre à vos questions\, recueillir vos observations et échanger sur les sujets qui vous concernent.
URL:https://www.saint-germain-laval.fr/evenement/permanence-elus-5/
LOCATION:Mairie\, 1 rue de Verdun\, Saint-Germain-Laval\, 77130\, France
CATEGORIES:Mairie
ATTACH;FMTTYPE=image/jpeg:https://www.saint-germain-laval.fr/wp-content/uploads/Permanence-elu.jpg
END:VEVENT
BEGIN:VEVENT
DTSTART;TZID=Europe/Paris:20261121T190000
DTEND;TZID=Europe/Paris:20261121T235900
DTSTAMP:20260420T124040
CREATED:20260212T151804Z
LAST-MODIFIED:20260304T092039Z
UID:11158-1795287600-1795305540@www.saint-germain-laval.fr
SUMMARY:Beaujolais Nouveau
DESCRIPTION:Le Comité des Fêtes vous propose une soirée Beaujolais Nouveau le samedi 21 novembre 2026 à partir de 19h00 dans une ambiance musicale animée par un DJ. \nMenu à 22€ comprenant : \n\n1 apéritif\n1 verre de beaujolais\nCrudités & assiette de viande froide\nFromage\nDessert\nCafé\n\n➡️ Inscription à réception du paiement
URL:https://www.saint-germain-laval.fr/evenement/beaujolais-nouveau/
LOCATION:Salle de l’Orée de la Bassée\, rue de Provins\, Saint-Germain-Laval\, 77130\, France
CATEGORIES:Associations
ATTACH;FMTTYPE=image/jpeg:https://www.saint-germain-laval.fr/wp-content/uploads/Vins-2.jpg
ORGANIZER;CN="Comit%C3%A9 des F%C3%AAtes":MAILTO:comitesaintgermainlaval@outlook.fr
END:VEVENT
BEGIN:VEVENT
DTSTART;TZID=Europe/Paris:20261128T090000
DTEND;TZID=Europe/Paris:20261128T170000
DTSTAMP:20260420T124040
CREATED:20260212T152704Z
LAST-MODIFIED:20260304T092039Z
UID:11160-1795856400-1795885200@www.saint-germain-laval.fr
SUMMARY:Marché des créateurs
DESCRIPTION:Le Comité des Fêtes propose un salon loisirs et créations le samedi 28 novembre 2026. \nPour des idées de cadeaux pour Noëls\, n’hésitez pas à venir découvrir des artisans et leurs créations originales : des réalisations de couture\, de dentelle\, en bois ou bien encore en crochet. Des bijoux\, des poteries et bien plus encore ! \n  \n 
URL:https://www.saint-germain-laval.fr/evenement/marche-des-createurs/
LOCATION:Salle de l’Orée de la Bassée\, rue de Provins\, Saint-Germain-Laval\, 77130\, France
CATEGORIES:Associations
ATTACH;FMTTYPE=image/jpeg:https://www.saint-germain-laval.fr/wp-content/uploads/Cadeaux-bleus-blanc.jpg
ORGANIZER;CN="Comit%C3%A9 des F%C3%AAtes":MAILTO:comitesaintgermainlaval@outlook.fr
END:VEVENT
END:VCALENDAR