BEGIN:VCALENDAR
VERSION:2.0
PRODID:-//Saint-Germain-Laval - ECPv6.15.17//NONSGML v1.0//EN
CALSCALE:GREGORIAN
METHOD:PUBLISH
X-ORIGINAL-URL:https://www.saint-germain-laval.fr
X-WR-CALDESC:Évènements pour Saint-Germain-Laval
REFRESH-INTERVAL;VALUE=DURATION:PT1H
X-Robots-Tag:noindex
X-PUBLISHED-TTL:PT1H
BEGIN:VTIMEZONE
TZID:Europe/Paris
BEGIN:DAYLIGHT
TZOFFSETFROM:+0100
TZOFFSETTO:+0200
TZNAME:CEST
DTSTART:20250330T010000
END:DAYLIGHT
BEGIN:STANDARD
TZOFFSETFROM:+0200
TZOFFSETTO:+0100
TZNAME:CET
DTSTART:20251026T010000
END:STANDARD
BEGIN:DAYLIGHT
TZOFFSETFROM:+0100
TZOFFSETTO:+0200
TZNAME:CEST
DTSTART:20260329T010000
END:DAYLIGHT
BEGIN:STANDARD
TZOFFSETFROM:+0200
TZOFFSETTO:+0100
TZNAME:CET
DTSTART:20261025T010000
END:STANDARD
BEGIN:DAYLIGHT
TZOFFSETFROM:+0100
TZOFFSETTO:+0200
TZNAME:CEST
DTSTART:20270328T010000
END:DAYLIGHT
BEGIN:STANDARD
TZOFFSETFROM:+0200
TZOFFSETTO:+0100
TZNAME:CET
DTSTART:20271031T010000
END:STANDARD
END:VTIMEZONE
BEGIN:VEVENT
DTSTART;TZID=Europe/Paris:20260423T193000
DTEND;TZID=Europe/Paris:20260423T203000
DTSTAMP:20260419T191005
CREATED:20260417T133757Z
LAST-MODIFIED:20260417T133810Z
UID:12264-1776972600-1776976200@www.saint-germain-laval.fr
SUMMARY:Conseil municipal public
DESCRIPTION:Réunion publique du Conseil Municipal : JEUDI 23 AVRIL 2026 À 19H30 \nOrdre du jour : \n\nApprobation du procès-verbal de la séance du 28 mars 2026\,\nPortée à connaissance du procès-verbal de la réunion du Comité Social Territorial du CDG77 en date du 16/12/2025 relatif aux Rapports Sociaux Uniques compilés pour les collectivités de moins de 50 agents\,\nApprobation du Compte Financier Unique – Année 2025\,\nAffectation du résultat\,\nVote des taux d’imposition des taxes directes locales – Année 2026\,\nApprobation du Budget Primitif Commune 2026 – Lecture des subventions\,\nContrat COMUTITRES – Carte Imagine’R – Année scolaire 2026/2027\nCréation de deux postes d’Adjoint d’animation temps complet\, non-permanent – Eté 2026\,\nCréation de deux postes d’Adjoint d’animation temps non-complet\, non-permanent pour l’année scolaire 2026/2027\,\nTarifs des services périscolaires et extrascolaires à compter du 01/09/2026\,\nTarifs de la Salle du Ru de l’Etang au 01/09/2026\,\nTarifs de la Salle de l’Orée de la Bassée au 01/09/2026\,\nDésignation de quatre représentants de la Commune\, appelés à siéger à la Commission Spéciale de la Conférence\, au sein de l’entente intercommunale avec la Ville de Montereau pour la production mutualisée des repas destinés aux restaurants scolaires\,\nTravaux de réhabilitation intérieure de l’Eglise – Phase 3 – Demandes de subventions et lancement des travaux\, y compris le concours pour la réalisation des vitraux\,\nNomination d’un représentant de la Commune au sein de la « SPL Porte de Paris »\,\nRenouvellement de membres de la Commission Communale des Impôts Directs suite aux élections municipales du 15/03/2026\nAffaires et questions diverses.
URL:https://www.saint-germain-laval.fr/evenement/conseil-municipal-public-16/
LOCATION:Annexe mairie\, 8 rue de Provins\, Saint-Germain-Laval\, 77130\, France
CATEGORIES:Mairie
ATTACH;FMTTYPE=image/jpeg:https://www.saint-germain-laval.fr/wp-content/uploads/Micro-3.jpg
END:VEVENT
END:VCALENDAR